BEGIN:VCALENDAR
VERSION:2.0
PRODID:-//Hämeen Pelastusliitto Ry - ECPv6.15.20//NONSGML v1.0//EN
CALSCALE:GREGORIAN
METHOD:PUBLISH
X-WR-CALNAME:Hämeen Pelastusliitto Ry
X-ORIGINAL-URL:https://hameenpelastusliitto.fi
X-WR-CALDESC:Tapahtumat Hämeen Pelastusliitto Ry
REFRESH-INTERVAL;VALUE=DURATION:PT1H
X-Robots-Tag:noindex
X-PUBLISHED-TTL:PT1H
BEGIN:VTIMEZONE
TZID:Europe/Helsinki
BEGIN:DAYLIGHT
TZOFFSETFROM:+0200
TZOFFSETTO:+0300
TZNAME:EEST
DTSTART:20220327T010000
END:DAYLIGHT
BEGIN:STANDARD
TZOFFSETFROM:+0300
TZOFFSETTO:+0200
TZNAME:EET
DTSTART:20221030T010000
END:STANDARD
BEGIN:DAYLIGHT
TZOFFSETFROM:+0200
TZOFFSETTO:+0300
TZNAME:EEST
DTSTART:20230326T010000
END:DAYLIGHT
BEGIN:STANDARD
TZOFFSETFROM:+0300
TZOFFSETTO:+0200
TZNAME:EET
DTSTART:20231029T010000
END:STANDARD
BEGIN:DAYLIGHT
TZOFFSETFROM:+0200
TZOFFSETTO:+0300
TZNAME:EEST
DTSTART:20240331T010000
END:DAYLIGHT
BEGIN:STANDARD
TZOFFSETFROM:+0300
TZOFFSETTO:+0200
TZNAME:EET
DTSTART:20241027T010000
END:STANDARD
END:VTIMEZONE
BEGIN:VEVENT
DTSTART;VALUE=DATE:20230825
DTEND;VALUE=DATE:20230828
DTSTAMP:20260421T190017
CREATED:20230505T114920Z
LAST-MODIFIED:20230505T115032Z
UID:10000009-1692921600-1693180799@hameenpelastusliitto.fi
SUMMARY:HPL Koulutusviikonloppu 2023
DESCRIPTION:Hämeen Pelastusliitto järjestää palokuntanuorille ja liiton pelastuskoira-yhdistyksille Koulutustapahtuman Länsi-Suomen Pelastusharjoitus alueella 25.8-27.8.2023. Tapahtuman tavoitteena tarjota nuoriso-osaston sekä pelastuskoirayhdistyksen jäsenille laadukasta koulutusta ja mielenkiintoista toimintaa. \nPelastuskoirakoot harjoittelevat pe25.8-su27.8.2023 \nPalokuntanuoret harjoittelevat la 26.8.2023
URL:https://hameenpelastusliitto.fi/tapahtuma/hpl-koulutusviikonloppu-2023/
LOCATION:Länsi-Suomen pelastusharjoitusalue\, Ilmailuopistontie 226\, Pori\, 28540\, Suomi
CATEGORIES:HPL,Järjestö,Nuoret
END:VEVENT
END:VCALENDAR