BEGIN:VCALENDAR
VERSION:2.0
PRODID:-//Hämeen Pelastusliitto Ry - ECPv6.15.20//NONSGML v1.0//EN
CALSCALE:GREGORIAN
METHOD:PUBLISH
X-ORIGINAL-URL:https://hameenpelastusliitto.fi
X-WR-CALDESC:Tapahtumat Hämeen Pelastusliitto Ry
REFRESH-INTERVAL;VALUE=DURATION:PT1H
X-Robots-Tag:noindex
X-PUBLISHED-TTL:PT1H
BEGIN:VTIMEZONE
TZID:Europe/Helsinki
BEGIN:DAYLIGHT
TZOFFSETFROM:+0200
TZOFFSETTO:+0300
TZNAME:EEST
DTSTART:20220327T010000
END:DAYLIGHT
BEGIN:STANDARD
TZOFFSETFROM:+0300
TZOFFSETTO:+0200
TZNAME:EET
DTSTART:20221030T010000
END:STANDARD
BEGIN:DAYLIGHT
TZOFFSETFROM:+0200
TZOFFSETTO:+0300
TZNAME:EEST
DTSTART:20230326T010000
END:DAYLIGHT
BEGIN:STANDARD
TZOFFSETFROM:+0300
TZOFFSETTO:+0200
TZNAME:EET
DTSTART:20231029T010000
END:STANDARD
BEGIN:DAYLIGHT
TZOFFSETFROM:+0200
TZOFFSETTO:+0300
TZNAME:EEST
DTSTART:20240331T010000
END:DAYLIGHT
BEGIN:STANDARD
TZOFFSETFROM:+0300
TZOFFSETTO:+0200
TZNAME:EET
DTSTART:20241027T010000
END:STANDARD
END:VTIMEZONE
BEGIN:VEVENT
DTSTART;TZID=Europe/Helsinki:20230413T170000
DTEND;TZID=Europe/Helsinki:20230413T210000
DTSTAMP:20260421T144743
CREATED:20230412T131710Z
LAST-MODIFIED:20230412T131711Z
UID:10000006-1681405200-1681419600@hameenpelastusliitto.fi
SUMMARY:Toimi oikein paloilmoittimella-kurssi
DESCRIPTION:
URL:https://hameenpelastusliitto.fi/tapahtuma/toimi-oikein-paloilmoittimella-kurssi/
LOCATION:LempäälänIdeapark\, Ideaparkinkatu 4\, Lempäälä\, Pirkanmaa\, 37570\, Suomi
CATEGORIES:Hälytysosastot
END:VEVENT
BEGIN:VEVENT
DTSTART;VALUE=DATE:20230420
DTEND;VALUE=DATE:20230605
DTSTAMP:20260421T144743
CREATED:20230412T131043Z
LAST-MODIFIED:20230412T131504Z
UID:10000005-1681948800-1685923199@hameenpelastusliitto.fi
SUMMARY:Pelastustoiminnan peruskurssi Päijät-Häme
DESCRIPTION:Pelastustoiminnan peruskurssin suorittanut osaa: \n\n kertoa sammutusauton pelastuskaluston sekä niiden käyttötarkoituksen\nkertoa\, mitä eri suojavarusteita palokunnilla on käytössä eri tehtäviin\nkertoa tulipalon kehittymisen ja huoneistopalon ilmiöt\n kertoa palamisen edellytykset\n selittää pelastusmuodostelmat ja johtamisjärjestelmän\n selittää pelastusryhmän jäsenen henkilökohtaiset tehtävät sekä tarvittavan kaluston ensitoimenpiteisiin kuuluvissa selvityksissä sammutus- ja pelastustehtävissä\nselittää työturvallisuuden merkityksen pelastustoimen tehtävissä
URL:https://hameenpelastusliitto.fi/tapahtuma/pelastustoiminnan-peruskurssi-paijat-hame/
LOCATION:Päijät-Hämeen pelastuslaitos Heinolan toimipaikka\, Yhdyskatu 1\, Heinola\, Päijät-Häme\, 18150\, Suomi
CATEGORIES:Hälytysosastot
END:VEVENT
END:VCALENDAR