BEGIN:VCALENDAR
VERSION:2.0
PRODID:-//Hämeen Pelastusliitto Ry - ECPv6.15.20//NONSGML v1.0//EN
CALSCALE:GREGORIAN
METHOD:PUBLISH
X-WR-CALNAME:Hämeen Pelastusliitto Ry
X-ORIGINAL-URL:https://hameenpelastusliitto.fi
X-WR-CALDESC:Tapahtumat Hämeen Pelastusliitto Ry
REFRESH-INTERVAL;VALUE=DURATION:PT1H
X-Robots-Tag:noindex
X-PUBLISHED-TTL:PT1H
BEGIN:VTIMEZONE
TZID:Europe/Helsinki
BEGIN:DAYLIGHT
TZOFFSETFROM:+0200
TZOFFSETTO:+0300
TZNAME:EEST
DTSTART:20220327T010000
END:DAYLIGHT
BEGIN:STANDARD
TZOFFSETFROM:+0300
TZOFFSETTO:+0200
TZNAME:EET
DTSTART:20221030T010000
END:STANDARD
BEGIN:DAYLIGHT
TZOFFSETFROM:+0200
TZOFFSETTO:+0300
TZNAME:EEST
DTSTART:20230326T010000
END:DAYLIGHT
BEGIN:STANDARD
TZOFFSETFROM:+0300
TZOFFSETTO:+0200
TZNAME:EET
DTSTART:20231029T010000
END:STANDARD
BEGIN:DAYLIGHT
TZOFFSETFROM:+0200
TZOFFSETTO:+0300
TZNAME:EEST
DTSTART:20240331T010000
END:DAYLIGHT
BEGIN:STANDARD
TZOFFSETFROM:+0300
TZOFFSETTO:+0200
TZNAME:EET
DTSTART:20241027T010000
END:STANDARD
END:VTIMEZONE
BEGIN:VEVENT
DTSTART;VALUE=DATE:20230420
DTEND;VALUE=DATE:20230605
DTSTAMP:20260421T133154
CREATED:20230412T131043Z
LAST-MODIFIED:20230412T131504Z
UID:10000005-1681948800-1685923199@hameenpelastusliitto.fi
SUMMARY:Pelastustoiminnan peruskurssi Päijät-Häme
DESCRIPTION:Pelastustoiminnan peruskurssin suorittanut osaa: \n\n kertoa sammutusauton pelastuskaluston sekä niiden käyttötarkoituksen\nkertoa\, mitä eri suojavarusteita palokunnilla on käytössä eri tehtäviin\nkertoa tulipalon kehittymisen ja huoneistopalon ilmiöt\n kertoa palamisen edellytykset\n selittää pelastusmuodostelmat ja johtamisjärjestelmän\n selittää pelastusryhmän jäsenen henkilökohtaiset tehtävät sekä tarvittavan kaluston ensitoimenpiteisiin kuuluvissa selvityksissä sammutus- ja pelastustehtävissä\nselittää työturvallisuuden merkityksen pelastustoimen tehtävissä
URL:https://hameenpelastusliitto.fi/tapahtuma/pelastustoiminnan-peruskurssi-paijat-hame/
LOCATION:Päijät-Hämeen pelastuslaitos Heinolan toimipaikka\, Yhdyskatu 1\, Heinola\, Päijät-Häme\, 18150\, Suomi
CATEGORIES:Hälytysosastot
END:VEVENT
BEGIN:VEVENT
DTSTART;TZID=Europe/Helsinki:20230513T120000
DTEND;TZID=Europe/Helsinki:20230513T180000
DTSTAMP:20260421T133154
CREATED:20230505T122836Z
LAST-MODIFIED:20230505T125854Z
UID:10000011-1683979200-1684000800@hameenpelastusliitto.fi
SUMMARY:Palobandy
DESCRIPTION:Palobandy Lempäälässä Liikuntakeskus Parkissa klo 12.00 alkaen. Lisätiedot Hakasta.
URL:https://hameenpelastusliitto.fi/tapahtuma/palopandy/
LOCATION:Liikuntakeskus Parkki\, Kaipionmäentie 5\, Lempäälä\, 37570\, Suomi
CATEGORIES:HPL,Nuoret
END:VEVENT
BEGIN:VEVENT
DTSTART;TZID=Europe/Helsinki:20230524T180000
DTEND;TZID=Europe/Helsinki:20230524T200000
DTSTAMP:20260421T133154
CREATED:20230426T095543Z
LAST-MODIFIED:20230426T095837Z
UID:10000007-1684951200-1684958400@hameenpelastusliitto.fi
SUMMARY:Liiton kevätkokous 2023 ja Iitin VPK:n asemaan tutustuminen
DESCRIPTION:Liiton kevätkokous alkaa asemaan tutustumisen jälkeen klo 19. \nLisätietoa kokoukset sivulla.
URL:https://hameenpelastusliitto.fi/tapahtuma/liiton-kevatkokous-2023-ja-iitin-npkn-asemaan-tutustuminen/
LOCATION:Iitin vpk\, Veteraanitie 5\, Kausala\, 47400\, Suomi
CATEGORIES:HPL
END:VEVENT
END:VCALENDAR