BEGIN:VCALENDAR
VERSION:2.0
PRODID:-//Hämeen Pelastusliitto Ry - ECPv6.15.20//NONSGML v1.0//EN
CALSCALE:GREGORIAN
METHOD:PUBLISH
X-ORIGINAL-URL:https://hameenpelastusliitto.fi
X-WR-CALDESC:Tapahtumat Hämeen Pelastusliitto Ry
REFRESH-INTERVAL;VALUE=DURATION:PT1H
X-Robots-Tag:noindex
X-PUBLISHED-TTL:PT1H
BEGIN:VTIMEZONE
TZID:Europe/Helsinki
BEGIN:DAYLIGHT
TZOFFSETFROM:+0200
TZOFFSETTO:+0300
TZNAME:EEST
DTSTART:20220327T010000
END:DAYLIGHT
BEGIN:STANDARD
TZOFFSETFROM:+0300
TZOFFSETTO:+0200
TZNAME:EET
DTSTART:20221030T010000
END:STANDARD
BEGIN:DAYLIGHT
TZOFFSETFROM:+0200
TZOFFSETTO:+0300
TZNAME:EEST
DTSTART:20230326T010000
END:DAYLIGHT
BEGIN:STANDARD
TZOFFSETFROM:+0300
TZOFFSETTO:+0200
TZNAME:EET
DTSTART:20231029T010000
END:STANDARD
BEGIN:DAYLIGHT
TZOFFSETFROM:+0200
TZOFFSETTO:+0300
TZNAME:EEST
DTSTART:20240331T010000
END:DAYLIGHT
BEGIN:STANDARD
TZOFFSETFROM:+0300
TZOFFSETTO:+0200
TZNAME:EET
DTSTART:20241027T010000
END:STANDARD
END:VTIMEZONE
BEGIN:VEVENT
DTSTART;TZID=Europe/Helsinki:20230928T173000
DTEND;TZID=Europe/Helsinki:20230928T200000
DTSTAMP:20260421T184006
CREATED:20230426T100408Z
LAST-MODIFIED:20230821T075043Z
UID:10000008-1695922200-1695931200@hameenpelastusliitto.fi
SUMMARY:HPL hallituksen kokous
DESCRIPTION:Hämeen Pelastusliiton hallituksen kokous Tampereella.
URL:https://hameenpelastusliitto.fi/tapahtuma/hpl-hallituksen-kokous/
CATEGORIES:HPL
END:VEVENT
END:VCALENDAR