BEGIN:VCALENDAR
VERSION:2.0
PRODID:-//Hämeen Pelastusliitto Ry - ECPv6.15.20//NONSGML v1.0//EN
CALSCALE:GREGORIAN
METHOD:PUBLISH
X-ORIGINAL-URL:https://hameenpelastusliitto.fi
X-WR-CALDESC:Tapahtumat Hämeen Pelastusliitto Ry
REFRESH-INTERVAL;VALUE=DURATION:PT1H
X-Robots-Tag:noindex
X-PUBLISHED-TTL:PT1H
BEGIN:VTIMEZONE
TZID:Europe/Helsinki
BEGIN:DAYLIGHT
TZOFFSETFROM:+0200
TZOFFSETTO:+0300
TZNAME:EEST
DTSTART:20220327T010000
END:DAYLIGHT
BEGIN:STANDARD
TZOFFSETFROM:+0300
TZOFFSETTO:+0200
TZNAME:EET
DTSTART:20221030T010000
END:STANDARD
BEGIN:DAYLIGHT
TZOFFSETFROM:+0200
TZOFFSETTO:+0300
TZNAME:EEST
DTSTART:20230326T010000
END:DAYLIGHT
BEGIN:STANDARD
TZOFFSETFROM:+0300
TZOFFSETTO:+0200
TZNAME:EET
DTSTART:20231029T010000
END:STANDARD
BEGIN:DAYLIGHT
TZOFFSETFROM:+0200
TZOFFSETTO:+0300
TZNAME:EEST
DTSTART:20240331T010000
END:DAYLIGHT
BEGIN:STANDARD
TZOFFSETFROM:+0300
TZOFFSETTO:+0200
TZNAME:EET
DTSTART:20241027T010000
END:STANDARD
END:VTIMEZONE
BEGIN:VEVENT
DTSTART;VALUE=DATE:20231007
DTEND;VALUE=DATE:20231008
DTSTAMP:20260421T200447
CREATED:20230508T064338Z
LAST-MODIFIED:20230907T125927Z
UID:10000016-1696636800-1696723199@hameenpelastusliitto.fi
SUMMARY:Palokuntanaiset: Mimmin Malja 2023
DESCRIPTION:Toteutetaan yhteistyössä Länsi-Suomen pelastusliiton naistyön kanssa. \nKatso tiedot tästä
URL:https://hameenpelastusliitto.fi/tapahtuma/palokuntanaiset-mimmin-malja-2023-ja-opintopaivat/
CATEGORIES:Naiset
END:VEVENT
BEGIN:VEVENT
DTSTART;VALUE=DATE:20231015
DTEND;VALUE=DATE:20231016
DTSTAMP:20260421T200447
CREATED:20230926T101800Z
LAST-MODIFIED:20230926T111200Z
UID:10000030-1697328000-1697414399@hameenpelastusliitto.fi
SUMMARY:Nuoret: Syyskokous 2023
DESCRIPTION:Levon metsästysmaja\, Houhajärvi\, Sastamala \nKokous on Tamperen alueleirin yhteydessä
URL:https://hameenpelastusliitto.fi/tapahtuma/nuorisotyon-vuosikokous-2023/
CATEGORIES:Nuoret
END:VEVENT
BEGIN:VEVENT
DTSTART;TZID=Europe/Helsinki:20231022T080000
DTEND;TZID=Europe/Helsinki:20231022T170000
DTSTAMP:20260421T200447
CREATED:20230508T063132Z
LAST-MODIFIED:20230508T063429Z
UID:10000014-1697961600-1697994000@hameenpelastusliitto.fi
SUMMARY:Palokuntanaiset: Vuosikokous\, Sysmässä
DESCRIPTION:Vuosikokous\, Sysmässä \nAlustavan suunnitelman mukaan ohjelmassa: \n10.00 Jumalanpalvelus \n12.00 Lounas \n13.00 Vuosikokous
URL:https://hameenpelastusliitto.fi/tapahtuma/palokuntanaiset-vuosikokous-sysmassa/
CATEGORIES:Naiset
END:VEVENT
BEGIN:VEVENT
DTSTART;VALUE=DATE:20231028
DTEND;VALUE=DATE:20231030
DTSTAMP:20260421T200447
CREATED:20230508T064613Z
LAST-MODIFIED:20230508T064613Z
UID:10000017-1698451200-1698623999@hameenpelastusliitto.fi
SUMMARY:Palokuntanaiset: Kouluttajien\, toimihenkilöiden ja emäntien opintopäivät
DESCRIPTION:Paikka: Hämeenkyrön VPK:n majalla \n 
URL:https://hameenpelastusliitto.fi/tapahtuma/palokuntanaiset-kouluttajien-toimihenkiloiden-ja-emantien-opintopaivat/
CATEGORIES:Naiset
END:VEVENT
END:VCALENDAR