BEGIN:VCALENDAR
VERSION:2.0
PRODID:-//Hämeen Pelastusliitto Ry - ECPv6.15.20//NONSGML v1.0//EN
CALSCALE:GREGORIAN
METHOD:PUBLISH
X-ORIGINAL-URL:https://hameenpelastusliitto.fi
X-WR-CALDESC:Tapahtumat Hämeen Pelastusliitto Ry
REFRESH-INTERVAL;VALUE=DURATION:PT1H
X-Robots-Tag:noindex
X-PUBLISHED-TTL:PT1H
BEGIN:VTIMEZONE
TZID:Europe/Helsinki
BEGIN:DAYLIGHT
TZOFFSETFROM:+0200
TZOFFSETTO:+0300
TZNAME:EEST
DTSTART:20220327T010000
END:DAYLIGHT
BEGIN:STANDARD
TZOFFSETFROM:+0300
TZOFFSETTO:+0200
TZNAME:EET
DTSTART:20221030T010000
END:STANDARD
BEGIN:DAYLIGHT
TZOFFSETFROM:+0200
TZOFFSETTO:+0300
TZNAME:EEST
DTSTART:20230326T010000
END:DAYLIGHT
BEGIN:STANDARD
TZOFFSETFROM:+0300
TZOFFSETTO:+0200
TZNAME:EET
DTSTART:20231029T010000
END:STANDARD
BEGIN:DAYLIGHT
TZOFFSETFROM:+0200
TZOFFSETTO:+0300
TZNAME:EEST
DTSTART:20240331T010000
END:DAYLIGHT
BEGIN:STANDARD
TZOFFSETFROM:+0300
TZOFFSETTO:+0200
TZNAME:EET
DTSTART:20241027T010000
END:STANDARD
END:VTIMEZONE
BEGIN:VEVENT
DTSTART;TZID=Europe/Helsinki:20231115T170000
DTEND;TZID=Europe/Helsinki:20231115T210000
DTSTAMP:20260421T213522
CREATED:20230816T093425Z
LAST-MODIFIED:20230816T093425Z
UID:10000024-1700067600-1700082000@hameenpelastusliitto.fi
SUMMARY:Väestönsuojanhoitajan kurssi 15.11.2023\, Lempäälä
DESCRIPTION:Kurssin kesto on 4 tuntia klo 17 alkaen. Kurssille tulee ilmoittautua vähintään 3 viikkoa ennen ilmoitettua kurssiajankohtaa. \nVahvistus tulee sähköpostilla noin kaksi viikkoa ennen kurssia Mikäli ilmoittautuneiden määrä jää alle 8 henkilön\, kurssia ei järjestetä. Peruuttamatta jääneet poissaolot laskutetaan täysimääräisenä. \nLisätietoa TÄSTÄ \n 
URL:https://hameenpelastusliitto.fi/tapahtuma/vaestonsuojanhoitajan-kurssi-15-11-2023-lempaala/
LOCATION:LempäälänIdeapark\, Ideaparkinkatu 4\, Lempäälä\, Pirkanmaa\, 37570\, Suomi
CATEGORIES:HPL,Taloyhtiöt,Yritykset
END:VEVENT
BEGIN:VEVENT
DTSTART;TZID=Europe/Helsinki:20231121T180000
DTEND;TZID=Europe/Helsinki:20231121T200000
DTSTAMP:20260421T213522
CREATED:20231023T082706Z
LAST-MODIFIED:20231023T082706Z
UID:10000034-1700589600-1700596800@hameenpelastusliitto.fi
SUMMARY:Koulutustaito webinaari  ”kausisuunnittelu ja rastikoulutus”
DESCRIPTION:Hämeen pelastusliitto järjestää toisen samanlaisen Koulutustaitojen webinaariin. Koulutusaiheena on kausisuunnitelman teko ja rastikoulutusten pitäminen. Webinaari järjestetään 21.11.2023 TEAMS:ssa klo 18-20.\nMikäli et päässyt linjoille 21.9\, tai haluat kuunnella uudestaan\, niin tervetuloa! \nWebinaarin jälkeen osallistujat:\n• Tuntevat koulutuksen rakenteen\n• Tuntevat kausisuunnitelman suunnittelun\n• Tuntevat rastikoulutuksen suunnittelun \nWebinaarissa perehdytään koulutuksen rakenteeseen ja sen eri osien merkitykseen yksilön oppimisen kannalta. Kun ymmärrämme koulutuksen rakenteen ja sen eri variaation\, alamme perehtymään kausisuunnitelman suunnitteluun ja siihen vaikuttaviin asioihin. Laadukas kausisuunnitelma luo pohjan tehokkaalle ja mielekkäälle oppimiselle. Lopuksi perehdymme rastikoulutukseen ja sen tuomiin mahdollisuuksiin toteuttaa kausisuunnitelman opetustarkoituksia isolle ja taidoiltaan eritasoisille palokuntalaisille \nKohderyhmä:\n• Hämeen pelastusliiton jäsenet: nais-\, nuoriso-\, veteraani- ja hälytysosastot\, meripelastusseurat ja pelastuskoirayhdistykset. Sekä muut aiheesta kiinnostuneet.\nKouluttaja:\n• Tuomas Vakkila\nHinta:\n• MAKSUTON \nIlmoittautuminen Lyytissä 16.11.2023 menneessä ILMOITTAUDU \nLisätietoja aleksei.kyrola@hameenpelastusliitto.fi tai 046 923 1515
URL:https://hameenpelastusliitto.fi/tapahtuma/koulutustaito-webinaari-kausisuunnittelu-ja-rastikoulutus/
CATEGORIES:Hälytysosastot,HPL,Järjestö,Naiset,Nuoret,Palokuntalaiset,Veteraanit
END:VEVENT
BEGIN:VEVENT
DTSTART;TZID=Europe/Helsinki:20231122T170000
DTEND;TZID=Europe/Helsinki:20231122T210000
DTSTAMP:20260421T213522
CREATED:20230620T090534Z
LAST-MODIFIED:20230620T091555Z
UID:10000018-1700672400-1700686800@hameenpelastusliitto.fi
SUMMARY:Asuinkiinteistön turvallisuuskurssi 22.11.2023 ja 29.11.2023\, Lempäälä
DESCRIPTION:Asuinkiinteistön turvallisuuskurssin 1 päivä \nKurssin kesto on kaksi iltaa n. 4h/ iltaa klo 17 alkaen. Kurssille tulee ilmoittautua vähintään 3 viikkoa ennen ilmoitettua kurssiajankohtaa. \nVahvistus tulee sähköpostilla noin kaksi viikkoa ennen kurssia. Mikäli ilmoittautuneiden määrä jää alle 8 henkilön\, kurssia ei järjestetä. Peruuttamatta jääneet poissaolot laskutetaan täysimääräisenä. \nLisätietoa TÄSTÄ \n 
URL:https://hameenpelastusliitto.fi/tapahtuma/asuinkiinteiston-turvallisuuskurssi-22-11-2023-ja-29-11-2023/
LOCATION:LempäälänIdeapark\, Ideaparkinkatu 4\, Lempäälä\, Pirkanmaa\, 37570\, Suomi
CATEGORIES:HPL,Taloyhtiöt,Yritykset
END:VEVENT
BEGIN:VEVENT
DTSTART;TZID=Europe/Helsinki:20231129T170000
DTEND;TZID=Europe/Helsinki:20231129T210000
DTSTAMP:20260421T213522
CREATED:20230620T090945Z
LAST-MODIFIED:20230620T091535Z
UID:10000019-1701277200-1701291600@hameenpelastusliitto.fi
SUMMARY:Asuinkiinteistön turvallisuuskurssi 22.11.2023 ja 29.11.2023\, Lempäälä
DESCRIPTION:Asuinkiinteistön turvallisuuskurssin 2 päivä \nKurssin kesto on kaksi iltaa n. 4h/ iltaa klo 17 alkaen. Kurssille tulee ilmoittautua vähintään 3 viikkoa ennen ilmoitettua kurssiajankohtaa. \nVahvistus tulee sähköpostilla noin kaksi viikkoa ennen kurssia. Mikäli ilmoittautuneiden määrä jää alle 8 henkilön\, kurssia ei järjestetä. Peruuttamatta jääneet poissaolot laskutetaan täysimääräisenä. \nLisätietoa TÄSTÄ
URL:https://hameenpelastusliitto.fi/tapahtuma/asuinkiinteiston-turvallisuuskurssi-22-11-2023-ja-29-11-2023-2/
LOCATION:LempäälänIdeapark\, Ideaparkinkatu 4\, Lempäälä\, Pirkanmaa\, 37570\, Suomi
CATEGORIES:HPL,Taloyhtiöt,Yritykset
END:VEVENT
END:VCALENDAR