BEGIN:VCALENDAR
VERSION:2.0
PRODID:-//Hämeen Pelastusliitto Ry - ECPv6.15.20//NONSGML v1.0//EN
CALSCALE:GREGORIAN
METHOD:PUBLISH
X-WR-CALNAME:Hämeen Pelastusliitto Ry
X-ORIGINAL-URL:https://hameenpelastusliitto.fi
X-WR-CALDESC:Tapahtumat Hämeen Pelastusliitto Ry
REFRESH-INTERVAL;VALUE=DURATION:PT1H
X-Robots-Tag:noindex
X-PUBLISHED-TTL:PT1H
BEGIN:VTIMEZONE
TZID:Europe/Helsinki
BEGIN:DAYLIGHT
TZOFFSETFROM:+0200
TZOFFSETTO:+0300
TZNAME:EEST
DTSTART:20230326T010000
END:DAYLIGHT
BEGIN:STANDARD
TZOFFSETFROM:+0300
TZOFFSETTO:+0200
TZNAME:EET
DTSTART:20231029T010000
END:STANDARD
BEGIN:DAYLIGHT
TZOFFSETFROM:+0200
TZOFFSETTO:+0300
TZNAME:EEST
DTSTART:20240331T010000
END:DAYLIGHT
BEGIN:STANDARD
TZOFFSETFROM:+0300
TZOFFSETTO:+0200
TZNAME:EET
DTSTART:20241027T010000
END:STANDARD
BEGIN:DAYLIGHT
TZOFFSETFROM:+0200
TZOFFSETTO:+0300
TZNAME:EEST
DTSTART:20250330T010000
END:DAYLIGHT
BEGIN:STANDARD
TZOFFSETFROM:+0300
TZOFFSETTO:+0200
TZNAME:EET
DTSTART:20251026T010000
END:STANDARD
END:VTIMEZONE
BEGIN:VEVENT
DTSTART;VALUE=DATE:20240301
DTEND;VALUE=DATE:20240304
DTSTAMP:20260422T031645
CREATED:20231016T123553Z
LAST-MODIFIED:20240219T120652Z
UID:10000033-1709251200-1709510399@hameenpelastusliitto.fi
SUMMARY:Nuoret: Talvileiri 1.-3.3.2024
DESCRIPTION:Talvileiri Kalliopirtin leirikeskuksessa Kärkölässä \nTalvileirin päällikkö Jarno Potkonen ph.alueohjaaja@hameenpalokuntanuoret.fi
URL:https://hameenpelastusliitto.fi/tapahtuma/nuoret-talvileiri-1-3-3-2024/
CATEGORIES:Hälytysosastot,HPL,Järjestö,Naiset,Nuoret,Palokuntalaiset,Veteraanit
END:VEVENT
BEGIN:VEVENT
DTSTART;VALUE=DATE:20240302
DTEND;VALUE=DATE:20240303
DTSTAMP:20260422T031645
CREATED:20240126T123933Z
LAST-MODIFIED:20240126T123933Z
UID:10000050-1709337600-1709423999@hameenpelastusliitto.fi
SUMMARY:Nuorisotyön kevätkokous\, Kärkölä
DESCRIPTION:Kevätkokous talvileirillä Kärkölässä
URL:https://hameenpelastusliitto.fi/tapahtuma/nuorisotyon-kevatkokous-karkola/
CATEGORIES:Nuoret
END:VEVENT
BEGIN:VEVENT
DTSTART;VALUE=DATE:20240309
DTEND;VALUE=DATE:20240310
DTSTAMP:20260422T031645
CREATED:20240126T123543Z
LAST-MODIFIED:20240126T123543Z
UID:10000049-1709942400-1710028799@hameenpelastusliitto.fi
SUMMARY:Rescue Race\, Lappeenranta
DESCRIPTION:  \nKilpailukutsu – Tävlingsinbjudan 2024
URL:https://hameenpelastusliitto.fi/tapahtuma/rescue-race-lappeenranta/
CATEGORIES:Nuoret
END:VEVENT
BEGIN:VEVENT
DTSTART;TZID=Europe/Helsinki:20240309T140000
DTEND;TZID=Europe/Helsinki:20240309T160000
DTSTAMP:20260422T031645
CREATED:20240129T072115Z
LAST-MODIFIED:20250130T085250Z
UID:10000051-1709992800-1710000000@hameenpelastusliitto.fi
SUMMARY:Henkinen tuki - kurssi\, Padasjoki
DESCRIPTION:Naistyön ja tukiosaston kurssi. Katso lisää tästä. \n 
URL:https://hameenpelastusliitto.fi/tapahtuma/henkinen-tuki-kurssi-padasjoki/
CATEGORIES:Naiset
ATTACH;FMTTYPE=image/jpeg:https://hameenpelastusliitto.fi/wp-content/uploads/2024/01/Palokuntanaiset.jpg
END:VEVENT
BEGIN:VEVENT
DTSTART;VALUE=DATE:20240316
DTEND;VALUE=DATE:20240318
DTSTAMP:20260422T031645
CREATED:20240108T114053Z
LAST-MODIFIED:20240108T114254Z
UID:10000038-1710547200-1710719999@hameenpelastusliitto.fi
SUMMARY:Koulutustaitojen kehittäminen-kurssi  (1 lähijakso)
DESCRIPTION:Hämeen Pelastusliitto järjestää Koulutustaitojen kehittäminen-kurssi Liiton jäsenyhdistyksille 16.3-14.4.2024 ajalla. \nKuvaus kurssista: \nKurssilla käydään läpi ihmisen oppimista ja siihen vaikuttavia asioita. Kurssilla keskitytään kokemusperäiseen oppimisteoriaan ja sen soveltamiseen koulutuksen rakenteessa. Kun kurssilainen ymmärtää ihmisen oppimiseen vaikuttavat asiat\, voidaan tutustua koulutuksen rakenteeseen ja eri koulutuksen osien yksityiskohtiin\, jotta koulutus olisi mahdollisimman laadukasta ja tehokasta. Kurssilla harjoitellaan ja opitaan esiintymistaidosta ja sen vaikutuksesta koulutukseen. Jokainen kurssilainen tekee harjoitussuunnitelman ja sen pohjalta pitää muille kurssilaisille koulutuksen. Kurssin kouluttaja antaa jokaisesta harjoitussuunnitelmasta\, sekä koulutuksesta henkilökohtaisen palautteen. \nKurssin toteutus: \nKurssi toteutetaan kahdessa lähiopetuksessa\, joiden välissä on noin kuukauden mittainen etäopiskelu. Ensimmäisessä lähiopetuksessa kurssilaisille annetaan riittävä teoriaopetus\, jotta hän kykenee suunnittelemaan ja tekemään harjoitussuunnitelman itsenäisesti. Etäopiskelun aikana kurssilaiset saavat kerran kurssin kouluttajalta palautetta harjoitussuunnitelmastaan.  Seuraavalla lähijaksolla kurssilainen toteuttaa suunnittelemansa koulutuksen muille kurssilaisille. Koulutus suorituksesta kurssilainen saa palautteen muilta kurssilaisilta\, sekä kurssin kouluttajalta. \nKurssin tavoitteet: \nKurssin jälkeen kurssilaiset:\n• Tuntevat ihmisen kokemusperäisen oppimisen teorian ja kuinka sitä sovelletaan käytännössä\n• Tuntevat koulutuksen rakenteen merkityksen oppimisen kannalta\n• Osaavat suunnitella ja toteuttaa turvallisen käytännön koulutuksen\n• Osaavat antaa rakentavaa palautetta koulutettaville \nKenelle kurssi on tarkoitettu:\nKurssi on tarkoitettu liiton palokunta- ja pelastuskoirayhdistysten jäsenille \, jotka toteuttavat viikkokoulutuksia omassa yhdistyksessä. Kurssi antaa hyviä eväitä aloittavalle kouluttajalle\, sekä toimii hyvänä kertauksena kokeneemmalle kouluttajalle. \nAika:                                                                                   Paikka:\n1 lähijakso: 16.3 – 17.3.2024 klo 9-17                              1 lähijakso: Tammelan VPK\, Iisaksentie 5\, Tammela\n2 lähijakso: 13.4 – 14.4.2024 klo 9-16                              2 lähijakso: Alueittain pienryhmissä \nKurssin hinta:                                                                                                                Kurssilaisen vaatimukset:\nKurssimaksu on 85 €/oppilas sisältäen lähijaksojen lounaat ja kahvit                         Kurssilainen on vähintään 16-vuotias \nIlmoittautuminen tapahtuu LYYTI- järjestelmässä viimeistään to 29.2.2024 \nILMOITTAUDU \nHakijoille ilmoitetaan valinnasta erikseen eräpäivän jälkeen
URL:https://hameenpelastusliitto.fi/tapahtuma/koulutustaitojen-kehittaminen-kurssi-16-3-14-4-2024-1-lahijakso/
LOCATION:Tammelan VPK\, Iisaksentie 5\, Tammela\, 31300\, Suomi
CATEGORIES:Hälytysosastot,HPL,Järjestö,Naiset,Nuoret,Palokuntalaiset,Veteraanit
END:VEVENT
BEGIN:VEVENT
DTSTART;TZID=Europe/Helsinki:20240316T100000
DTEND;TZID=Europe/Helsinki:20240316T150000
DTSTAMP:20260422T031645
CREATED:20240117T103048Z
LAST-MODIFIED:20240117T103048Z
UID:10000045-1710583200-1710601200@hameenpelastusliitto.fi
SUMMARY:Hallitus II
DESCRIPTION:Hämeen Pelastusliiton hallituksen kokous II\, tilinpäätöskokous.
URL:https://hameenpelastusliitto.fi/tapahtuma/hallitus-ii/
CATEGORIES:HPL
END:VEVENT
BEGIN:VEVENT
DTSTART;TZID=Europe/Helsinki:20240323T100000
DTEND;TZID=Europe/Helsinki:20240323T180000
DTSTAMP:20260422T031645
CREATED:20231003T133459Z
LAST-MODIFIED:20231219T112023Z
UID:10000032-1711188000-1711216800@hameenpelastusliitto.fi
SUMMARY:NUORET: Palobandy 23.3.2024
DESCRIPTION:Alustavasti varattu kaksi kenttää: \nLahen Energiahalli Oy\nIlmarisentie 3 A\n15200 Lahti\nwww.energiahalli.com \nYhteyshenkilö: Päijät-Hämeen alueohjaaja Jarno Potkonen
URL:https://hameenpelastusliitto.fi/tapahtuma/nuoret-salibandy-23-3-2024/
CATEGORIES:Nuoret
END:VEVENT
END:VCALENDAR