BEGIN:VCALENDAR
VERSION:2.0
PRODID:-//Hämeen Pelastusliitto Ry - ECPv6.15.20//NONSGML v1.0//EN
CALSCALE:GREGORIAN
METHOD:PUBLISH
X-WR-CALNAME:Hämeen Pelastusliitto Ry
X-ORIGINAL-URL:https://hameenpelastusliitto.fi
X-WR-CALDESC:Tapahtumat Hämeen Pelastusliitto Ry
REFRESH-INTERVAL;VALUE=DURATION:PT1H
X-Robots-Tag:noindex
X-PUBLISHED-TTL:PT1H
BEGIN:VTIMEZONE
TZID:Europe/Helsinki
BEGIN:DAYLIGHT
TZOFFSETFROM:+0200
TZOFFSETTO:+0300
TZNAME:EEST
DTSTART:20230326T010000
END:DAYLIGHT
BEGIN:STANDARD
TZOFFSETFROM:+0300
TZOFFSETTO:+0200
TZNAME:EET
DTSTART:20231029T010000
END:STANDARD
BEGIN:DAYLIGHT
TZOFFSETFROM:+0200
TZOFFSETTO:+0300
TZNAME:EEST
DTSTART:20240331T010000
END:DAYLIGHT
BEGIN:STANDARD
TZOFFSETFROM:+0300
TZOFFSETTO:+0200
TZNAME:EET
DTSTART:20241027T010000
END:STANDARD
BEGIN:DAYLIGHT
TZOFFSETFROM:+0200
TZOFFSETTO:+0300
TZNAME:EEST
DTSTART:20250330T010000
END:DAYLIGHT
BEGIN:STANDARD
TZOFFSETFROM:+0300
TZOFFSETTO:+0200
TZNAME:EET
DTSTART:20251026T010000
END:STANDARD
END:VTIMEZONE
BEGIN:VEVENT
DTSTART;VALUE=DATE:20240505
DTEND;VALUE=DATE:20240506
DTSTAMP:20260422T061530
CREATED:20240325T130715Z
LAST-MODIFIED:20240325T130715Z
UID:10000056-1714867200-1714953599@hameenpelastusliitto.fi
SUMMARY:Metsäpalo 2024 kesäleirin keittiökoulutus
DESCRIPTION:Ilmoittautuminen tästä \n  \n 
URL:https://hameenpelastusliitto.fi/tapahtuma/metsapalo-2024-kesaleirin-keittiokoulutus/
CATEGORIES:Hälytysosastot,Naiset,Nuoret,Veteraanit
END:VEVENT
BEGIN:VEVENT
DTSTART;TZID=Europe/Helsinki:20240515T110000
DTEND;TZID=Europe/Helsinki:20240516T130000
DTSTAMP:20260422T061530
CREATED:20240321T093800Z
LAST-MODIFIED:20240321T094239Z
UID:10000055-1715770800-1715864400@hameenpelastusliitto.fi
SUMMARY:Palokuntaveteraanien kevätpäivät 15.-16.5.2024\, Rantalahdessa
DESCRIPTION:Hämeen Pelastusliiton palokuntaveteraanien kevätpäivät 15.-16.5.2024 järjestetään Rantalahdessa kurssikeskuksessa\, Rantalahdentie 70\, 14240 Janakkala. \nLisätietoa tulee https://hameenpelastusliitto.fi/palokuntaveteraanit/ ajankohtaista osioon heti\, kun ohjelma on valmis.
URL:https://hameenpelastusliitto.fi/tapahtuma/palokuntaveteraanien-kevatpaivat-15-16-5-2024-rantalahdessa/
ATTACH;FMTTYPE=image/png:https://hameenpelastusliitto.fi/wp-content/uploads/2024/03/Rantalahti.png
END:VEVENT
BEGIN:VEVENT
DTSTART;TZID=Europe/Helsinki:20240516T173000
DTEND;TZID=Europe/Helsinki:20240516T200000
DTSTAMP:20260422T061530
CREATED:20240117T104856Z
LAST-MODIFIED:20240117T104856Z
UID:10000047-1715880600-1715889600@hameenpelastusliitto.fi
SUMMARY:Liiton kevätkokous
DESCRIPTION:Tutustuminen Pirkanmaan VPK toimintaan Vesalantie 9\, Pirkkala klo 17.30 alkaen. \nKahvitarjoilu klo 18.30 ja liiton kevätkokous klo 19.00 Bufferi\, Vaittintie 95\, Pirkkala
URL:https://hameenpelastusliitto.fi/tapahtuma/liiton-kevatkokous/
CATEGORIES:Hälytysosastot,HPL,Järjestö,Naiset,Nuoret,Palokuntalaiset,Veteraanit
END:VEVENT
END:VCALENDAR