BEGIN:VCALENDAR
VERSION:2.0
PRODID:-//Hämeen Pelastusliitto Ry - ECPv6.15.20//NONSGML v1.0//EN
CALSCALE:GREGORIAN
METHOD:PUBLISH
X-WR-CALNAME:Hämeen Pelastusliitto Ry
X-ORIGINAL-URL:https://hameenpelastusliitto.fi
X-WR-CALDESC:Tapahtumat Hämeen Pelastusliitto Ry
REFRESH-INTERVAL;VALUE=DURATION:PT1H
X-Robots-Tag:noindex
X-PUBLISHED-TTL:PT1H
BEGIN:VTIMEZONE
TZID:Europe/Helsinki
BEGIN:DAYLIGHT
TZOFFSETFROM:+0200
TZOFFSETTO:+0300
TZNAME:EEST
DTSTART:20230326T010000
END:DAYLIGHT
BEGIN:STANDARD
TZOFFSETFROM:+0300
TZOFFSETTO:+0200
TZNAME:EET
DTSTART:20231029T010000
END:STANDARD
BEGIN:DAYLIGHT
TZOFFSETFROM:+0200
TZOFFSETTO:+0300
TZNAME:EEST
DTSTART:20240331T010000
END:DAYLIGHT
BEGIN:STANDARD
TZOFFSETFROM:+0300
TZOFFSETTO:+0200
TZNAME:EET
DTSTART:20241027T010000
END:STANDARD
BEGIN:DAYLIGHT
TZOFFSETFROM:+0200
TZOFFSETTO:+0300
TZNAME:EEST
DTSTART:20250330T010000
END:DAYLIGHT
BEGIN:STANDARD
TZOFFSETFROM:+0300
TZOFFSETTO:+0200
TZNAME:EET
DTSTART:20251026T010000
END:STANDARD
END:VTIMEZONE
BEGIN:VEVENT
DTSTART;TZID=Europe/Helsinki:20240418T170000
DTEND;TZID=Europe/Helsinki:20240425T210000
DTSTAMP:20260422T175551
CREATED:20240109T153511Z
LAST-MODIFIED:20240109T153511Z
UID:10000041-1713459600-1714078800@hameenpelastusliitto.fi
SUMMARY:Asuinkiinteistön turvallisuuskurssi 18.4. ja 25.4.2024\, Lempäälä
DESCRIPTION:Asuinkiinteistön turvallisuuskurssin 2 päivä \nKurssin kesto on kaksi iltaa n. 4h/ iltaa klo 17 alkaen. Kurssille tulee ilmoittautua vähintään 3 viikkoa ennen ilmoitettua kurssiajankohtaa. \nVahvistus tulee sähköpostilla noin kaksi viikkoa ennen kurssia. Mikäli ilmoittautuneiden määrä jää alle 8 henkilön\, kurssia ei järjestetä. Peruuttamatta jääneet poissaolot laskutetaan täysimääräisenä. \nLisätietoa TÄSTÄ
URL:https://hameenpelastusliitto.fi/tapahtuma/asuinkiinteiston-turvallisuuskurssi-18-4-ja-25-4-2024-lempaala/
LOCATION:LempäälänIdeapark\, Ideaparkinkatu 4\, Lempäälä\, Pirkanmaa\, 37570\, Suomi
CATEGORIES:HPL,Taloyhtiöt,Yritykset
END:VEVENT
END:VCALENDAR